BEGIN:VCALENDAR
VERSION:2.0
PRODID:SchoolNow
CALSCALE:GREGORIAN
BEGIN:VEVENT
UID:0eef9b9e-8709-11ef-8d96-0a58a9feac02
DTSTAMP:20241125T191804Z
SUMMARY:CDD Board Meeting - Oct. 2024 - Cancelled
LOCATION:3204 Heartleaf Ave. E.\, Panama City\, FL 32405
URL;VALUE=URI:https://www.sweetbayrescdd5.com/calendar/6796252/cdd-board-me
 eting-oct-2024-cancelled
DTSTART:20241018T150000Z
DTEND:20241018T160000Z
END:VEVENT
END:VCALENDAR
