BEGIN:VCALENDAR
VERSION:2.0
PRODID:SchoolNow
CALSCALE:GREGORIAN
BEGIN:VEVENT
UID:1ae634ee-8709-11ef-9bf7-0affe5b2e357
DTSTAMP:20241125T191743Z
SUMMARY:CDD Board Meeting - Nov. 2024 - CANCELLED
LOCATION:3204 Heartleaf Ave. E.\, Panama City\, FL 32405
URL;VALUE=URI:https://www.sweetbayrescdd5.com/calendar/6796253/cdd-board-me
 eting-nov-2024
DTSTART:20241115T160000Z
DTEND:20241115T170000Z
END:VEVENT
END:VCALENDAR
