BEGIN:VCALENDAR
VERSION:2.0
PRODID:SchoolNow
CALSCALE:GREGORIAN
BEGIN:VEVENT
UID:275b8f4e-8709-11ef-a18a-02d461682ecd
DTSTAMP:20241206T205118Z
SUMMARY:CDD Board Meeting - Dec. 2024
LOCATION:3204 Heartleaf Ave. E.\, Panama City\, FL 32405
URL;VALUE=URI:https://www.sweetbayrescdd5.com/calendar/6796254/cdd-board-me
 eting-dec-2024
DTSTART:20241213T190000Z
DTEND:20241213T200000Z
ATTACH;FILENAME=2024-12-13 Agenda Package.pdf;FMTTYPE=application/pdf:https
 ://campussuite-storage.s3.amazonaws.com/prod/1559229/ca55cac6-84d8-11ef-a5
 56-0e0ba6a44717/2888137/7110f610-b413-11ef-bb8b-0a58a9feac02/file/2024-12-
 13 Agenda Package.pdf
END:VEVENT
END:VCALENDAR
